BEGIN:VCALENDAR
PRODID:-//eluceo/ical//2.0/EN
VERSION:2.0
CALSCALE:GREGORIAN
BEGIN:VEVENT
UID:e9d08e916915fad88d146aded6124eb9
DTSTAMP:20260422T052722Z
SUMMARY:Tag der offenen Gärten
DESCRIPTION:Möchtest du einmal in die Solidarische Landwirtschaft\nhineins
 chnuppern? Die Luzerner Solawis laden dich ein zum Tag der\noffenen Gärte
 n.\n
DTSTART:20260502T080000Z
DTEND:20260502T120000Z
END:VEVENT
END:VCALENDAR
