BEGIN:VCALENDAR
PRODID:-//eluceo/ical//2.0/EN
VERSION:2.0
CALSCALE:GREGORIAN
BEGIN:VEVENT
UID:2ea211ffa233ac1f1c0a398c0700bca7
DTSTAMP:20260421T172621Z
SUMMARY:Kreativ mit Naturmaterialien
DESCRIPTION:Welche Farben begegnen uns auf dem Weg? Mit welchen Pflanzen un
 d mit\nwelchen Materialien können wir experimentieren\, gestalten und mal
 en?\nAuf der Kinderwanderung erfahren Sie es!\n
DTSTART:20260415T080000Z
DTEND:20260415T134500Z
LOCATION:Waldegg\, 6048 Horw
GEO:47.026925;8.305132
X-APPLE-STRUCTURED-LOCATION;VALUE=URI;X-ADDRESS=Waldegg\, 6048 Horw;X-APPLE
 -RADIUS=49;X-TITLE=:geo:47.026925,8.305132
END:VEVENT
END:VCALENDAR
