BEGIN:VCALENDAR
PRODID:-//eluceo/ical//2.0/EN
VERSION:2.0
CALSCALE:GREGORIAN
BEGIN:VEVENT
UID:b21a03f3dd99e19c66a190c65215f268
DTSTAMP:20260422T052723Z
SUMMARY:Tag der offenen Tür im Vogelmoos
DTSTART:20260530T100000Z
DTEND:20260530T140000Z
END:VEVENT
END:VCALENDAR
