BEGIN:VCALENDAR
PRODID:-//eluceo/ical//2.0/EN
VERSION:2.0
CALSCALE:GREGORIAN
BEGIN:VEVENT
UID:c1bba676b46064060dab6317e6542ca1
DTSTAMP:20260424T081119Z
SUMMARY:Sensenkurs
DTSTART:20260620T070000Z
DTEND:20260620T140000Z
END:VEVENT
END:VCALENDAR
