BEGIN:VCALENDAR
PRODID:-//eluceo/ical//2.0/EN
VERSION:2.0
CALSCALE:GREGORIAN
BEGIN:VEVENT
UID:13a216d0846fc0276065a0e80b92741e
DTSTAMP:20260420T145018Z
SUMMARY:Mit dem Ranger unterwegs am Baldeggersee
DTSTART:20260425T070000Z
DTEND:20260425T093000Z
END:VEVENT
END:VCALENDAR
