BEGIN:VCALENDAR
PRODID:-//eluceo/ical//2.0/EN
VERSION:2.0
CALSCALE:GREGORIAN
BEGIN:VEVENT
UID:259f5ef49f1ae0c9cf3178ea85f0f758
DTSTAMP:20260420T144236Z
SUMMARY:Der Igel - stacheliger Gartenfreund
DTSTART:20260423T163000Z
DTEND:20260423T173000Z
END:VEVENT
END:VCALENDAR
