BEGIN:VCALENDAR
PRODID:-//eluceo/ical//2.0/EN
VERSION:2.0
CALSCALE:GREGORIAN
BEGIN:VEVENT
UID:d48859c75b2e934bdc574d73d2667cf0
DTSTAMP:20260418T200406Z
SUMMARY:Lebensraum Seeforelle – von der Theorie zur Renaturierung
DESCRIPTION:Nach einem spannenden Input zum Thema Bachökologie packen alle
  mit an\num einen Bachabschnitt zu renaturieren. Die Seeforelle findet hie
 r\nanschliessend neue Laichplätze.\n
DTSTART:20260418T113000Z
DTEND:20260418T153000Z
LOCATION:Seebadstrasse\, 6283 Baldegg
GEO:47.186154;8.277297
X-APPLE-STRUCTURED-LOCATION;VALUE=URI;X-ADDRESS=Seebadstrasse\, 6283 Baldeg
 g;X-APPLE-RADIUS=49;X-TITLE=:geo:47.186154,8.277297
END:VEVENT
END:VCALENDAR
