BEGIN:VCALENDAR
PRODID:-//eluceo/ical//2.0/EN
VERSION:2.0
CALSCALE:GREGORIAN
BEGIN:VEVENT
UID:12e0a118137749ce607d0f5e8912c83f
DTSTAMP:20260422T211550Z
SUMMARY:Arbeitseinsatz Weierried
DESCRIPTION:Im Weierried breitet sich der Adlerfarn aus und konkurrenziert\
 nlichtbedürftige Arten wie z.B. Orchideen. An diesem Arbeitseinsatz\nreis
 sen wir Adlerfarn aus und unterstützen so die Pflege der\nartenreichen Ri
 edwiese.\n
DTSTART:20260627T070000Z
DTEND:20260627T100000Z
LOCATION:Koordinaten: 2'672'816.5\, 1'214'260.0\, 6044 Udligenswil
GEO:47.075250;8.397127
X-APPLE-STRUCTURED-LOCATION;VALUE=URI;X-ADDRESS=Koordinaten: 2'672'816.5\, 
 1'214'260.0\, 6044 Udligenswil;X-APPLE-RADIUS=49;X-TITLE=:geo:47.075250,8.
 397127
END:VEVENT
END:VCALENDAR
