BEGIN:VCALENDAR
PRODID:-//eluceo/ical//2.0/EN
VERSION:2.0
CALSCALE:GREGORIAN
BEGIN:VEVENT
UID:51fed888985d815ab243de498d508ee5
DTSTAMP:20260424T080645Z
SUMMARY:Waldlabor Neophyten (Anlass für Kinder 9-12 J.)
DESCRIPTION:Zusammen machen wir uns auf Spurensuche im Meggerwald und sehen
 \,\nlernen und verstehen\, wie vielfältig die Natur ist. An diesem\nNachm
 ittag befassen wir uns mit den Neophyten. Wir sind dabei in der\nRolle der
  Entdecker\, Forscher und Ranger.\n
DTSTART:20260617T113000Z
DTEND:20260617T150000Z
LOCATION:Bushaltestelle Tschädigen\, Meggen\, 6045 Meggen
GEO:47.061944;8.385782
X-APPLE-STRUCTURED-LOCATION;VALUE=URI;X-ADDRESS=Bushaltestelle Tschädigen\
 , Meggen\, 6045 Meggen;X-APPLE-RADIUS=49;X-TITLE=:geo:47.061944,8.385782
END:VEVENT
END:VCALENDAR
