BEGIN:VCALENDAR
PRODID:-//eluceo/ical//2.0/EN
VERSION:2.0
CALSCALE:GREGORIAN
BEGIN:VEVENT
UID:80661ba29ec2b8b9f96bb01b10ec0583
DTSTAMP:20260422T043137Z
SUMMARY:Arbeitseinsatz Schlittenried
DESCRIPTION:Auf dem Moränenwall im Schlittenried breitet sich der Adlerfar
 n mehr\nund mehr aus. Wir reissen die austreibenden Pflanzen aus und schaf
 fen\nso Platz für selten gewordene Orchideen und andere Moorpflanzen.\n
DTSTART:20260613T070000Z
DTEND:20260613T100000Z
LOCATION:Koordinaten: 2'673'244.0\, 1'214'236.3\, 6403 Küssnacht
GEO:47.075089;8.403007
X-APPLE-STRUCTURED-LOCATION;VALUE=URI;X-ADDRESS=Koordinaten: 2'673'244.0\, 
 1'214'236.3\, 6403 Küssnacht;X-APPLE-RADIUS=49;X-TITLE=:geo:47.075089,8.4
 03007
END:VEVENT
END:VCALENDAR
