BEGIN:VCALENDAR
PRODID:-//eluceo/ical//2.0/EN
VERSION:2.0
CALSCALE:GREGORIAN
BEGIN:VEVENT
UID:144309b5757a586833f2716e16424fa0
DTSTAMP:20260422T052900Z
SUMMARY:Honig- & Wildbienenexkursion
DESCRIPTION:Entlang des Waldrands machen wir uns auf den Weg\, um unsere Bi
 enen\nbesser kennen zu lernen. Anja Kloth - Imkerin aus Meggen und Manuel\
 nSteinmann - Biologe\, nehmen uns mit in die Welt dieser so nützlichen\na
 ber zu oft verkannten Nützlingen.\n
DTSTART:20260530T075500Z
DTEND:20260530T103000Z
LOCATION:Bushaltestelle Meggen\, Tschädigen\, 6045 Meggen
GEO:47.061940;8.385792
X-APPLE-STRUCTURED-LOCATION;VALUE=URI;X-ADDRESS=Bushaltestelle Meggen\, Tsc
 hädigen\, 6045 Meggen;X-APPLE-RADIUS=49;X-TITLE=:geo:47.061940,8.385792
END:VEVENT
END:VCALENDAR
