BEGIN:VCALENDAR
PRODID:-//eluceo/ical//2.0/EN
VERSION:2.0
CALSCALE:GREGORIAN
BEGIN:VEVENT
UID:0970ab5e098126c3d12146deff7e9157
DTSTAMP:20260420T142804Z
SUMMARY:Arbeitseinsatz Rütli Adligenswil
DESCRIPTION:Im kleinen Schutzgebiet Rütli\, unterhalt der Siedlung Rütliw
 eid\,\nhaben sich in den letzten Jahren invasive Neopyhten stark\nausgebre
 itet. An diesem Abendeinsatz nehmen wir uns vor\, an einem\nkleinen Hang E
 injährige Berufkräuter auszustechen.\n
DTSTART:20260526T153000Z
DTEND:20260526T180000Z
LOCATION:Schutzgebiet Rütli\, Koordinaten: 2'670'169 / 1'212'856\, 6043 Ad
 ligenswil
GEO:47.062973;8.362108
X-APPLE-STRUCTURED-LOCATION;VALUE=URI;X-ADDRESS=Schutzgebiet Rütli\, Koord
 inaten: 2'670'169 / 1'212'856\, 6043 Adligenswil;X-APPLE-RADIUS=49;X-TITLE
 =:geo:47.062973,8.362108
END:VEVENT
END:VCALENDAR
