BEGIN:VCALENDAR
PRODID:-//eluceo/ical//2.0/EN
VERSION:2.0
CALSCALE:GREGORIAN
BEGIN:VEVENT
UID:f692f1f7c0adfc02cb689461cee05a98
DTSTAMP:20260422T181140Z
SUMMARY:Gartenexkursion - Vielfalt im Fokus
DESCRIPTION:Auf der Exkursion besuchen wir drei Gärten im Quartier. Persö
 nliche\nInformationen aus erster Hand geben einen Einblick\, wie Gärten\n
 igelfreundlich und wie vielfältig Kulturpflanzen sein können.\n
DTSTART:20260518T163000Z
DTEND:20260518T190000Z
LOCATION:Lettenstrasse 2\, 6043 Adligenswil
GEO:47.077085;8.362087
X-APPLE-STRUCTURED-LOCATION;VALUE=URI;X-ADDRESS=Lettenstrasse 2\, 6043 Adli
 genswil;X-APPLE-RADIUS=49;X-TITLE=:geo:47.077085,8.362087
END:VEVENT
END:VCALENDAR
