BEGIN:VCALENDAR
PRODID:-//eluceo/ical//2.0/EN
VERSION:2.0
CALSCALE:GREGORIAN
BEGIN:VEVENT
UID:a1d0d87fb08c12891b9ef75e6187833a
DTSTAMP:20260421T123411Z
SUMMARY:Vogelvielfalt im Meggerwald
DESCRIPTION:Wir spazieren via Moosried zum Wagemoos. Wir kommen dabei an\nv
 ielfältigen Lebensräumen wie Riedwiesen\, Hecken\, Wald oder\nGewässern
  vorbei. Unterwegs achten wir auf Vogelgesang und -rufe und\nversuchen die
  Sänger zu entdecken und zu bestimmen.\n
DTSTART:20260510T050000Z
DTEND:20260510T090000Z
LOCATION:Schützenhaus Allmend Udligenswil\, (Bus 73 bis Udligenswil\, Göt
 zentalstrasse)\, 6044 Udligenswil
GEO:47.079526;8.391531
X-APPLE-STRUCTURED-LOCATION;VALUE=URI;X-ADDRESS=Schützenhaus Allmend Udlig
 enswil\, (Bus 73 bis Udligenswil\, Götzentalstrasse)\, 6044 Udligenswil;X
 -APPLE-RADIUS=49;X-TITLE=:geo:47.079526,8.391531
END:VEVENT
END:VCALENDAR
