BEGIN:VCALENDAR
PRODID:-//eluceo/ical//2.0/EN
VERSION:2.0
CALSCALE:GREGORIAN
BEGIN:VEVENT
UID:bb962dd27dc12b63558f212423995c3b
DTSTAMP:20260420T143314Z
SUMMARY:Arbeitseinsatz Bannwald
DESCRIPTION:Auf einer Lichtung im Bannwald wurden im Winter 2023 neue Weihe
 r und\nFeuchtwiesen geschaffen. Damit die Flächen offen bleiben\, braucht
  es\nregelmässige Pflege. Wir helfen mit und bekämpfen aufkommende\nBrom
 beer-Stauden.\n
DTSTART:20260509T070000Z
DTEND:20260509T100000Z
LOCATION:Küssnachterstrasse\, 6044 Küssnacht
GEO:47.083800;8.407513
X-APPLE-STRUCTURED-LOCATION;VALUE=URI;X-ADDRESS=Küssnachterstrasse\, 6044 
 Küssnacht;X-APPLE-RADIUS=49;X-TITLE=:geo:47.083800,8.407513
END:VEVENT
END:VCALENDAR
