BEGIN:VCALENDAR
PRODID:-//eluceo/ical//2.0/EN
VERSION:2.0
CALSCALE:GREGORIAN
BEGIN:VEVENT
UID:e31e95b0ac4c7f52e97671992bc17939
DTSTAMP:20260424T080503Z
SUMMARY:Gwunderstunde: Ausgraben 
DESCRIPTION:Mit allen Sinnen ein Thema der Natur entdecken\, werken\,\nexpe
 rimentieren und begreifen! Für Kinder ab 4 Jahren.\n
DTSTART:20260429T120000Z
DTEND:20260429T150000Z
LOCATION:Museum Luzern\, Kasernenplatz 6\, 6003 Luzern
END:VEVENT
END:VCALENDAR
