BEGIN:VCALENDAR
PRODID:-//eluceo/ical//2.0/EN
VERSION:2.0
CALSCALE:GREGORIAN
BEGIN:VEVENT
UID:ccb4d455f2742ae7dd39dda9ff26e599
DTSTAMP:20260423T070123Z
SUMMARY:Unkraut und Ungeziefer oder Heiler und Aufräumer?
DESCRIPTION:Thematische Gartenführungen im Rahmen des Nationalen Wochenend
 es\n«Offener Garten» im Kapuzinergarten Wesemlin\n
DTSTART:20260614T120000Z
DTEND:20260614T133000Z
LOCATION:
GEO:47.061081;8.314672
X-APPLE-STRUCTURED-LOCATION;VALUE=URI;X-ADDRESS=;X-APPLE-RADIUS=49;X-TITLE=
 :geo:47.061081,8.314672
END:VEVENT
END:VCALENDAR
