BEGIN:VCALENDAR
PRODID:-//eluceo/ical//2.0/EN
VERSION:2.0
CALSCALE:GREGORIAN
BEGIN:VEVENT
UID:b48e54ec98b172c87e127b7fefb52a42
DTSTAMP:20260424T080149Z
SUMMARY:Löwenzahn ist doch kein Unkraut!
DESCRIPTION:Heilpflanzen-Märchen für Kinder mit kindgerechtem\nHeilpflanz
 en-Wissen zum Löwenzahn\n
DTSTART:20260422T130000Z
DTEND:20260422T143000Z
LOCATION:
GEO:47.061081;8.314672
X-APPLE-STRUCTURED-LOCATION;VALUE=URI;X-ADDRESS=;X-APPLE-RADIUS=49;X-TITLE=
 :geo:47.061081,8.314672
END:VEVENT
END:VCALENDAR
