BEGIN:VCALENDAR
PRODID:-//eluceo/ical//2.0/EN
VERSION:2.0
CALSCALE:GREGORIAN
BEGIN:VEVENT
UID:6b96f9093fde05d231e16f4d12e530be
DTSTAMP:20260424T075906Z
SUMMARY:Tag der Guten Tat: Neophytenaktion an der Ron
DTSTART:20260530T070000Z
DTEND:20260530T103000Z
LOCATION:
GEO:47.084278;8.342510
X-APPLE-STRUCTURED-LOCATION;VALUE=URI;X-ADDRESS=;X-APPLE-RADIUS=49;X-TITLE=
 :geo:47.084278,8.342510
END:VEVENT
END:VCALENDAR
