BEGIN:VCALENDAR
PRODID:-//eluceo/ical//2.0/EN
VERSION:2.0
CALSCALE:GREGORIAN
BEGIN:VEVENT
UID:1aea2c326a8a324c56d7f0ae43302f46
DTSTAMP:20260424T081238Z
SUMMARY:Pop Up-Kino im Culinarium Alpinum: Six inches of soil (gesponsert)
DTSTART:20260529T170000Z
DTEND:20260529T200000Z
LOCATION:
GEO:46.955415;8.369364
X-APPLE-STRUCTURED-LOCATION;VALUE=URI;X-ADDRESS=;X-APPLE-RADIUS=49;X-TITLE=
 :geo:46.955415,8.369364
END:VEVENT
END:VCALENDAR
