BEGIN:VCALENDAR
PRODID:-//eluceo/ical//2.0/EN
VERSION:2.0
CALSCALE:GREGORIAN
BEGIN:VEVENT
UID:a515d74907041943d6dfa45c640c3ae7
DTSTAMP:20260421T001136Z
SUMMARY:Wildtiere gesichtet: Artenvielfalt in Siedlungsgebieten
DTSTART:20260408T170000Z
DTEND:20260408T183000Z
END:VEVENT
END:VCALENDAR
