BEGIN:VCALENDAR
PRODID:-//eluceo/ical//2.0/EN
VERSION:2.0
CALSCALE:GREGORIAN
BEGIN:VEVENT
UID:76beefafb1c130ac28f9ddf64159da5a
DTSTAMP:20260421T160653Z
SUMMARY:Gwunderstunde: Blütenzauber 
DESCRIPTION:Mit allen Sinnen ein Thema der Natur entdecken\, werken\,\nexpe
 rimentieren und begreifen! Für Kinder ab 4 Jahren.\n
DTSTART:20260325T130000Z
DTEND:20260325T160000Z
LOCATION:Museum Luzern\, Kasernenplatz 6\, 6003 Luzern
GEO:47.051683;8.301060
X-APPLE-STRUCTURED-LOCATION;VALUE=URI;X-ADDRESS=Museum Luzern\, Kasernenpla
 tz 6\, 6003 Luzern;X-APPLE-RADIUS=49;X-TITLE=:geo:47.051683,8.301060
END:VEVENT
END:VCALENDAR
