BEGIN:VCALENDAR
PRODID:-//eluceo/ical//2.0/EN
VERSION:2.0
CALSCALE:GREGORIAN
BEGIN:VEVENT
UID:9cd61abb459bc6ff1bf9c00fce3dc567
DTSTAMP:20260419T012439Z
SUMMARY:Fluoreszierende Tiere auf der Allmend Luzern
DESCRIPTION:Bevor es dunkel wird\, erfahren wir Spannendes über das Leben 
 der\nInsekten. Nach Einbruch der Dunkelheit spüren wir mit\nUV-Taschenlam
 pen geheimnisvoll leuchtende Wesen auf. Was sind das für\nArten?\n
DTSTART:20260430T181500Z
DTEND:20260430T204500Z
LOCATION:Horwerstrasse\, 6002 Luzern
GEO:47.031749;8.303500
X-APPLE-STRUCTURED-LOCATION;VALUE=URI;X-ADDRESS=Horwerstrasse\, 6002 Luzern
 ;X-APPLE-RADIUS=49;X-TITLE=:geo:47.031749,8.303500
END:VEVENT
END:VCALENDAR
