BEGIN:VCALENDAR
PRODID:-//eluceo/ical//2.0/EN
VERSION:2.0
CALSCALE:GREGORIAN
BEGIN:VEVENT
UID:78b266def7a5d1a57c95c83add1d1d9c
DTSTAMP:20260424T155026Z
SUMMARY:Repair Café Horw
DESCRIPTION:Ehrenamtliche Profis reparieren in vollausgestatteter Werkstatt
 \ngemeinsam mit Ihnen kostenlos Ihre Gegenstände\, alles in gemütlicher\
 nCafé-Atmosphäre\, mit leckerem Kaffee und Kuchen!\nInfo: https://www.re
 pair-cafe.ch/repaircafe/repair-cafe-horw/\n
DTSTART:20261114T080000Z
DTEND:20261114T120000Z
LOCATION:Gemeindehausplatz 26\, 6048 Horw
GEO:47.019138;8.308700
X-APPLE-STRUCTURED-LOCATION;VALUE=URI;X-ADDRESS=Gemeindehausplatz 26\, 6048
  Horw;X-APPLE-RADIUS=49;X-TITLE=:geo:47.019138,8.308700
END:VEVENT
END:VCALENDAR
