BEGIN:VCALENDAR
PRODID:-//eluceo/ical//2.0/EN
VERSION:2.0
CALSCALE:GREGORIAN
BEGIN:VEVENT
UID:8646d4078edc1dadddeb4bfba258de5b
DTSTAMP:20260424T005347Z
SUMMARY:«Schau rein» Vielfalt vor der Haustür
DESCRIPTION:Wie Sie mit einfachen Ideen die Natur direkt vor Ihrem Zuhause\
 nfördern und Ihren eigenen Aussenbereich in ein Paradies für Mensch\nund
  Tier verwandeln.\n
DTSTART:20260426T080000Z
DTEND:20260426T150000Z
LOCATION:Luzernerstrasse 6\, 6204 Sempach
END:VEVENT
END:VCALENDAR
