BEGIN:VCALENDAR
PRODID:-//eluceo/ical//2.0/EN
VERSION:2.0
CALSCALE:GREGORIAN
BEGIN:VEVENT
UID:de577f0f667ce917a07a73fc02f9830f
DTSTAMP:20260424T163407Z
SUMMARY:Pilz Tage Hasle - ein 4 Tageskurs
DESCRIPTION:Hast du Lust\, den Wald mit anderen Augen zu sehen und dabei ri
 chtig\nSpass zu haben?\nDann schnapp dir Korb + Neugier:\nFreu dich auf sp
 annende Entdeckungen\, überraschende Aha-Momente und\njede Menge Pilzwiss
 en.\n
DTSTART:20261015T080000Z
DTEND:20261018T110000Z
LOCATION:Heiligkreuz 2\, 6166 Hasle
GEO:46.949641;8.049601
X-APPLE-STRUCTURED-LOCATION;VALUE=URI;X-ADDRESS=Heiligkreuz 2\, 6166 Hasle;
 X-APPLE-RADIUS=49;X-TITLE=:geo:46.949641,8.049601
END:VEVENT
END:VCALENDAR
