BEGIN:VCALENDAR
PRODID:-//eluceo/ical//2.0/EN
VERSION:2.0
CALSCALE:GREGORIAN
BEGIN:VEVENT
UID:a8ba2461c5ebef7ed8e1f3b769d92aa8
DTSTAMP:20260424T011214Z
SUMMARY:Gebietspflege NV Horw
DESCRIPTION:Gemeinsam anpacken\, gemeinsam wirken. Unsere Gebietspflege-Gru
 ppe ist\neine tolle\, herzliche Gemeinschaft. Wir lachen viel\, wir arbeit
 en\nrespektvoll miteinander – und wir spüren jedes Mal\, dass wir etwas
 \nSinnvolles tun.\n
DTSTART:20261107T070000Z
DTEND:20261107T110000Z
LOCATION:
GEO:47.018550;8.309741
X-APPLE-STRUCTURED-LOCATION;VALUE=URI;X-ADDRESS=;X-APPLE-RADIUS=49;X-TITLE=
 :geo:47.018550,8.309741
END:VEVENT
END:VCALENDAR
