BEGIN:VCALENDAR
PRODID:-//eluceo/ical//2.0/EN
VERSION:2.0
CALSCALE:GREGORIAN
BEGIN:VEVENT
UID:a70f9ab2b7ba75059303b03c0f031a4d
DTSTAMP:20260422T214226Z
SUMMARY:Gebietspflege NV Horw
DESCRIPTION:Gemeinsam anpacken\, gemeinsam wirken. Unsere Gebietspflege-Gru
 ppe ist\neine tolle\, herzliche Gemeinschaft. Wir lachen viel\, wir arbeit
 en\nrespektvoll miteinander – und wir spüren jedes Mal\, dass wir etwas
 \nSinnvolles tun.\n
DTSTART:20260530T060000Z
DTEND:20260530T100000Z
LOCATION:
GEO:47.018550;8.309741
X-APPLE-STRUCTURED-LOCATION;VALUE=URI;X-ADDRESS=;X-APPLE-RADIUS=49;X-TITLE=
 :geo:47.018550,8.309741
END:VEVENT
END:VCALENDAR
