BEGIN:VCALENDAR
PRODID:-//eluceo/ical//2.0/EN
VERSION:2.0
CALSCALE:GREGORIAN
BEGIN:VEVENT
UID:6e73c2871e1072e7addcaa4f75c2226d
DTSTAMP:20260420T152446Z
SUMMARY:VELOTAG EMMEN
DESCRIPTION:Wie erreicht man die neue Kantonale Verwaltung am Seetalplatz m
 it dem\nFahrrad? Am Velotag erfahren Sie es. Daneben gibt es Infostände\,
 \nVelospiele und die Möglichkeit für kleinere Reparaturen.\n
DTSTART:20260425T080000Z
DTEND:20260425T130000Z
LOCATION:Seetalstrasse 18\, 6020 Emmen\, 6020 Emmen
GEO:47.070816;8.285676
X-APPLE-STRUCTURED-LOCATION;VALUE=URI;X-ADDRESS=Seetalstrasse 18\, 6020 Emm
 en\, 6020 Emmen;X-APPLE-RADIUS=49;X-TITLE=:geo:47.070816,8.285676
END:VEVENT
END:VCALENDAR
