BEGIN:VCALENDAR
PRODID:-//eluceo/ical//2.0/EN
VERSION:2.0
CALSCALE:GREGORIAN
BEGIN:VEVENT
UID:b6211b6f1e1d2cc568d52198e01bb9bc
DTSTAMP:20260423T195425Z
SUMMARY:Klangvoller Tagesbeginn – Morgenkonzert der Vögel in Kriens 
DESCRIPTION:Wenn der Tag erwacht\, beginnt ein Konzert ganz ohne Bühne\n
DTSTART:20260503T030000Z
DTEND:20260503T050000Z
LOCATION:Taubenhausstrasse\, 6002 Luzern
GEO:47.040142;8.300166
X-APPLE-STRUCTURED-LOCATION;VALUE=URI;X-ADDRESS=Taubenhausstrasse\, 6002 Lu
 zern;X-APPLE-RADIUS=49;X-TITLE=:geo:47.040142,8.300166
END:VEVENT
END:VCALENDAR
