BEGIN:VCALENDAR
PRODID:-//eluceo/ical//2.0/EN
VERSION:2.0
CALSCALE:GREGORIAN
BEGIN:VEVENT
UID:888bba76820a08f62428138946206513
DTSTAMP:20260424T010252Z
SUMMARY:Umweltingenieur/in oder Architekt/in als Projektleiter/in Bauphysik
  + Akustik 80%–100%
DESCRIPTION:Steigen Sie in ein zukunftsorientiertes Fachgebiet ein!\n
DTSTART;VALUE=DATE:20260108
DTEND;VALUE=DATE:20261223
END:VEVENT
END:VCALENDAR
