BEGIN:VCALENDAR
PRODID:-//eluceo/ical//2.0/EN
VERSION:2.0
CALSCALE:GREGORIAN
BEGIN:VEVENT
UID:446536f799673c075550c16aa236dcc1
DTSTAMP:20260423T070123Z
SUMMARY:Kräuter-Wanderung Moor Schwantenau Biberbrugg bei Einsiedeln
DESCRIPTION:Vom Bahnhof Biberbrugg hinauf ins Naturschutzgebiet und die\nMo
 orlandschaft Schwantenau bei Einsiedeln.\n
DTSTART:20260610T103000Z
DTEND:20260610T163000Z
LOCATION:Bahnhof Biberbrugg\, 8836 Bennau
END:VEVENT
END:VCALENDAR
