BEGIN:VCALENDAR
PRODID:-//eluceo/ical//2.0/EN
VERSION:2.0
CALSCALE:GREGORIAN
BEGIN:VEVENT
UID:b9813659f0649924e95569fe1a1ca5b1
DTSTAMP:20260422T052702Z
SUMMARY:Exkursion Von Waldameisen und Wildkräutern | 06.06.2026
DESCRIPTION:Erlebnisspaziergang rund um Waldameisen und Wildkräuter. Entde
 cken\nSie die unermüdlichen Heldinnen des Waldes und deren Einsatz für\n
 unser Ökosystem. Lernen Sie zudem\, welche Wildkräuter die Tiere\numgebe
 n und wie wir uns diese zu Nutze machen können.\n
DTSTART:20260606T113500Z
DTEND:20260606T151500Z
LOCATION:Bahnhofstrasse 33\, 6162 Entlebuch
GEO:46.993729;8.062473
X-APPLE-STRUCTURED-LOCATION;VALUE=URI;X-ADDRESS=Bahnhofstrasse 33\, 6162 En
 tlebuch;X-APPLE-RADIUS=49;X-TITLE=:geo:46.993729,8.062473
END:VEVENT
END:VCALENDAR
