BEGIN:VCALENDAR
PRODID:-//eluceo/ical//2.0/EN
VERSION:2.0
CALSCALE:GREGORIAN
BEGIN:VEVENT
UID:355e73beff49f4e213600d57db31fcbc
DTSTAMP:20260424T010824Z
SUMMARY:Exkursion Mein Malkasten aus Naturfarben | 22.07.2026
DESCRIPTION:Viele Pflanzen um uns enthalten Farbstoffe. Diese werden gesamm
 elt\,\nsortiert und verarbeitet\, teilweise auf dem Feuer. Die gewonnenen\
 nPflanzensäfte werden anschliessend zum Malkasten aus Naturfarben.\n
DTSTART:20260722T120500Z
DTEND:20260722T144000Z
LOCATION:Rothorn\, 6174 Sörenberg
GEO:46.807675;8.059673
X-APPLE-STRUCTURED-LOCATION;VALUE=URI;X-ADDRESS=Rothorn\, 6174 Sörenberg;X
 -APPLE-RADIUS=49;X-TITLE=:geo:46.807675,8.059673
END:VEVENT
END:VCALENDAR
