BEGIN:VCALENDAR
PRODID:-//eluceo/ical//2.0/EN
VERSION:2.0
CALSCALE:GREGORIAN
BEGIN:VEVENT
UID:625e6ff38f93dfd4f238a5169ffe5946
DTSTAMP:20260424T011436Z
SUMMARY:Exkursion Karst & Höhlen | 10.10.2026
DESCRIPTION:Karst- und Höhlenwanderung an der Schrattenfluh. Das strahlend
  weisse\nKarrenfeld der Schrattenfluh sticht direkt ins Auge. Gehen Sie mi
 t\neinem Guide auf Erkundungstour und steigen Sie hinab in deren\nfaszinie
 rende Unterwelt.\n
DTSTART:20261010T071500Z
DTEND:20261010T130000Z
END:VEVENT
END:VCALENDAR
