BEGIN:VCALENDAR
PRODID:-//eluceo/ical//2.0/EN
VERSION:2.0
CALSCALE:GREGORIAN
BEGIN:VEVENT
UID:e90d11002de817beb2e2fc790adc6e68
DTSTAMP:20260423T013516Z
SUMMARY:Exkursion Karst & Höhlen | 03.10.2026
DESCRIPTION:Karst- und Höhlenwanderung an der Schrattenfluh. Das strahlend
  weisse\nKarrenfeld der Schrattenfluh sticht direkt ins Auge. Gehen Sie mi
 t\neinem Guide auf Erkundungstour und steigen Sie hinab in deren\nfaszinie
 rende Unterwelt.\n
DTSTART:20261003T071500Z
DTEND:20261003T130000Z
END:VEVENT
END:VCALENDAR
