BEGIN:VCALENDAR
PRODID:-//eluceo/ical//2.0/EN
VERSION:2.0
CALSCALE:GREGORIAN
BEGIN:VEVENT
UID:d1a50cca1603a7a47f363398bdd3366f
DTSTAMP:20260424T011539Z
SUMMARY:Exkursion Karst & Höhlen | 29.07.2026
DESCRIPTION:Karst- und Höhlenwanderung an der Schrattenfluh. Das strahlend
  weisse\nKarrenfeld der Schrattenfluh sticht direkt ins Auge. Gehen Sie mi
 t\neinem Guide auf Erkundungstour und steigen Sie hinab in deren\nfaszinie
 rende Unterwelt.\n
DTSTART:20260729T071500Z
DTEND:20260729T130000Z
END:VEVENT
END:VCALENDAR
