BEGIN:VCALENDAR
PRODID:-//eluceo/ical//2.0/EN
VERSION:2.0
CALSCALE:GREGORIAN
BEGIN:VEVENT
UID:bbb0ed3a4e2b05c68d2587911edde2c4
DTSTAMP:20260424T011549Z
SUMMARY:Exkursion Karst & Höhlen | 25.07.2026
DESCRIPTION:Karst- und Höhlenwanderung an der Schrattenfluh. Das strahlend
  weisse\nKarrenfeld der Schrattenfluh sticht direkt ins Auge. Gehen Sie mi
 t\neinem Guide auf Erkundungstour und steigen Sie hinab in deren\nfaszinie
 rende Unterwelt.\n
DTSTART:20260725T071500Z
DTEND:20260725T130000Z
END:VEVENT
END:VCALENDAR
