BEGIN:VCALENDAR
PRODID:-//eluceo/ical//2.0/EN
VERSION:2.0
CALSCALE:GREGORIAN
BEGIN:VEVENT
UID:9a86e7306a38211a3188cb5d68b23a1f
DTSTAMP:20260422T061809Z
SUMMARY:Exkursion Karst & Höhlen | 22.07.2026
DESCRIPTION:Karst- und Höhlenwanderung an der Schrattenfluh. Das strahlend
  weisse\nKarrenfeld der Schrattenfluh sticht direkt ins Auge. Gehen Sie mi
 t\neinem Guide auf Erkundungstour und steigen Sie hinab in deren\nfaszinie
 rende Unterwelt.\n
DTSTART:20260722T071500Z
DTEND:20260722T130000Z
END:VEVENT
END:VCALENDAR
