BEGIN:VCALENDAR
PRODID:-//eluceo/ical//2.0/EN
VERSION:2.0
CALSCALE:GREGORIAN
BEGIN:VEVENT
UID:e4b116fa584c7c1573ddc36c96851d22
DTSTAMP:20260424T150615Z
SUMMARY:Exkursion Hirschbrunft | 30.09.2026
DESCRIPTION:Hirschbrunftbeobachtung. Mit Experten begeben Sie sich auf\nHir
 sch-Pirsch. Mit einer Prise Glück beobachten Sie die\neindrücklichen Tie
 re während der Brunft und lauschen ihrem\nunverkennbaren Röhren.\n
DTSTART:20260930T153000Z
DTEND:20260930T183000Z
END:VEVENT
END:VCALENDAR
