BEGIN:VCALENDAR
PRODID:-//eluceo/ical//2.0/EN
VERSION:2.0
CALSCALE:GREGORIAN
BEGIN:VEVENT
UID:b7accf86ac1cfd11c202699b4e55a55b
DTSTAMP:20260424T015059Z
SUMMARY:Giftsammlung Geuensee für private Haushaltabfälle
DESCRIPTION:Entrümpeln Sie Ihren Hobbyraum und Keller und bringen Sie gift
 ige\nStoffe zurück... Gefährliche Sonderabfälle müssen fachgerecht\nen
 tsorgt werden\, da sie bereits in kleinen Mengen eine erhebliche\nGefahr f
 ür Mensch und Umwelt darstellen.\n
DTSTART:20260530T070000Z
DTEND:20260530T100000Z
LOCATION:Kantonsstrasse 20\, 6232 Geuensee
GEO:47.195691;8.111043
X-APPLE-STRUCTURED-LOCATION;VALUE=URI;X-ADDRESS=Kantonsstrasse 20\, 6232 Ge
 uensee;X-APPLE-RADIUS=49;X-TITLE=:geo:47.195691,8.111043
END:VEVENT
END:VCALENDAR
