BEGIN:VCALENDAR
PRODID:-//eluceo/ical//2.0/EN
VERSION:2.0
CALSCALE:GREGORIAN
BEGIN:VEVENT
UID:c0fa66b201ac153eccd2d22b9176b257
DTSTAMP:20260422T063028Z
SUMMARY:Exkursion Karst & Höhlen | 18.07.2026
DESCRIPTION:Karst- und Höhlenwanderung an der Schrattenfluh. Das strahlend
  weisse\nKarrenfeld der Schrattenfluh sticht direkt ins Auge. Gehen Sie mi
 t\neinem Guide auf Erkundungstour und steigen Sie hinab in deren\nfaszinie
 rende Unterwelt.\n
DTSTART:20260718T071500Z
DTEND:20260718T130000Z
END:VEVENT
END:VCALENDAR
