BEGIN:VCALENDAR
PRODID:-//eluceo/ical//2.0/EN
VERSION:2.0
CALSCALE:GREGORIAN
BEGIN:VEVENT
UID:34ad8a6edfbf0223666cedafc6c8b4b2
DTSTAMP:20260424T020059Z
SUMMARY:Exkursion Bergvögel der Schrattenflue | 10.05.2026
DESCRIPTION:Bergvögel-Beobachtung mit dem Ornithologen. Unter fachkundiger
 \nLeitung begeben Sie sich auf Bergvogelpirsch an der Schrattenfluh.\nBeob
 achten und entdecken Sie Alpdohlen\, Kolkraben sowie zahlreiche\nkleinere\
 , unscheinbare Arten.\n
DTSTART:20260510T061500Z
DTEND:20260510T130000Z
LOCATION:Rothornstrasse 21\, 6174 Sörenberg
GEO:46.821944;8.034569
X-APPLE-STRUCTURED-LOCATION;VALUE=URI;X-ADDRESS=Rothornstrasse 21\, 6174 S
 örenberg;X-APPLE-RADIUS=49;X-TITLE=:geo:46.821944,8.034569
END:VEVENT
END:VCALENDAR
