BEGIN:VCALENDAR
PRODID:-//eluceo/ical//2.0/EN
VERSION:2.0
CALSCALE:GREGORIAN
BEGIN:VEVENT
UID:6b81eab7e28497bc50a9c039b81d0f86
DTSTAMP:20260422T165840Z
SUMMARY:Kurs Holzbildhauen
DESCRIPTION:Angeleitet von der Holzbildhauerin lassen Sie Schlag für Schla
 g Ihr\neigenes Kunstwerk entstehen. Ob Holzschale oder Tier – sicher ist
 \nnur\, dass es zum Unikat wird\, das Ihre Handschrift trägt.\n
DTSTART:20260409T080000Z
DTEND:20260412T150000Z
LOCATION:Chlosterbüel 28\, 6170 Schüpfheim
GEO:46.958997;8.024585
X-APPLE-STRUCTURED-LOCATION;VALUE=URI;X-ADDRESS=Chlosterbüel 28\, 6170 Sch
 üpfheim;X-APPLE-RADIUS=49;X-TITLE=:geo:46.958997,8.024585
END:VEVENT
END:VCALENDAR
