BEGIN:VCALENDAR
PRODID:-//eluceo/ical//2.0/EN
VERSION:2.0
CALSCALE:GREGORIAN
BEGIN:VEVENT
UID:668f88a558e56068464bc9e15b81b5d2
DTSTAMP:20260425T161441Z
SUMMARY:5. Zentralschweizer Naturtagung
DESCRIPTION:Welche Projekte im Naturschutz waren erfolgreich und warum? Wie
  kann\nder Verlust der Biodiversität gestoppt werden? An diesem Nachmitta
 g\nkönnen Sie Spannendes aus dem Natur- und Landschaftsschutz in der\nZen
 tralschweiz erfahren.\n
DTSTART:20241026T110000Z
DTEND:20241026T150000Z
LOCATION:Seerose 1\, 6204 Sempach
GEO:47.126005;8.193499
X-APPLE-STRUCTURED-LOCATION;VALUE=URI;X-ADDRESS=Seerose 1\, 6204 Sempach;X-
 APPLE-RADIUS=49;X-TITLE=:geo:47.126005,8.193499
END:VEVENT
END:VCALENDAR
