BEGIN:VCALENDAR
PRODID:-//eluceo/ical//2.0/EN
VERSION:2.0
CALSCALE:GREGORIAN
BEGIN:VEVENT
UID:f3a1322d6e783a22d9f145d189ff0575
DTSTAMP:20260425T161410Z
SUMMARY:Abendvortrag: Kivu - eine Reise zum vielleicht ungewöhnlichsten Se
 e der Welt
DESCRIPTION:Der Kivu-See in Ostafrika erinnert wegen seiner Lage zwischen g
 rünen\nHügeln an den Vierwaldstättersee. Doch es handelt sich hier um e
 inen\nganz aussergewöhnlichen See\, der viele nicht ungefährliche\nÜber
 raschungen zu bieten hat.\n
DTSTART:20241022T173000Z
DTEND:20241022T183000Z
LOCATION:Seestrasse 79\, 6047 Kastanienbaum
END:VEVENT
END:VCALENDAR
