BEGIN:VCALENDAR
PRODID:-//eluceo/ical//2.0/EN
VERSION:2.0
CALSCALE:GREGORIAN
BEGIN:VEVENT
UID:4b6b500752bc73a902bfd8ee9326edcd
DTSTAMP:20260425T161512Z
SUMMARY:Solaranlagen auf dem eigenen Dach - Planung Installation und Vortei
 le
DESCRIPTION:Am Vortrag erfahren Sie alles Wissenswerte über die Planung\, 
 den Bau\nund die Vorteile einer Solaranlage auf dem Dach. Damit Sie schon 
 bald\nIhren eigenen Strom produzieren können.\n
DTSTART:20241024T160000Z
DTEND:20241024T180000Z
LOCATION:Im Zentrum 5\, 6043 Adligenswil
GEO:47.071509;8.365487
X-APPLE-STRUCTURED-LOCATION;VALUE=URI;X-ADDRESS=Im Zentrum 5\, 6043 Adligen
 swil;X-APPLE-RADIUS=49;X-TITLE=:geo:47.071509,8.365487
END:VEVENT
END:VCALENDAR
