BEGIN:VCALENDAR
PRODID:-//eluceo/ical//2.0/EN
VERSION:2.0
CALSCALE:GREGORIAN
BEGIN:VEVENT
UID:9e8d38c7003e2d8517014de488019ce1
DTSTAMP:20260425T161130Z
SUMMARY:Schau rein: Zugvögel – wenn Vögel reisen
DESCRIPTION:Mehr über die spannenden Erkenntnisse aus der Vogelzugforschun
 g\nerfahren.\n
DTSTART:20241006T080000Z
DTEND:20241006T150000Z
LOCATION:Luzernerstrasse 6\, 6204 Sempach
GEO:47.128259;8.192351
X-APPLE-STRUCTURED-LOCATION;VALUE=URI;X-ADDRESS=Luzernerstrasse 6\, 6204 Se
 mpach;X-APPLE-RADIUS=49;X-TITLE=:geo:47.128259,8.192351
END:VEVENT
END:VCALENDAR
