BEGIN:VCALENDAR
PRODID:-//eluceo/ical//2.0/EN
VERSION:2.0
CALSCALE:GREGORIAN
BEGIN:VEVENT
UID:93152af1dba678ca4ef14b90f1eb8b2e
DTSTAMP:20260425T161241Z
SUMMARY:Schau rein: Zugvögel – wenn Vögel reisen
DESCRIPTION:Mehr über die spannenden Erkenntnisse aus der Vogelzugforschun
 g\nerfahren.\n
DTSTART:20241005T080000Z
DTEND:20241005T150000Z
LOCATION:Luzernerstrasse 6\, 6204 Sempach
GEO:47.128259;8.192351
X-APPLE-STRUCTURED-LOCATION;VALUE=URI;X-ADDRESS=Luzernerstrasse 6\, 6204 Se
 mpach;X-APPLE-RADIUS=49;X-TITLE=:geo:47.128259,8.192351
END:VEVENT
END:VCALENDAR
