BEGIN:VCALENDAR
PRODID:-//eluceo/ical//2.0/EN
VERSION:2.0
CALSCALE:GREGORIAN
BEGIN:VEVENT
UID:14b6161b30d243f822e91beb71070ee9
DTSTAMP:20260425T143701Z
SUMMARY:Umwelt- und Klimamorgen Sursee
DESCRIPTION:Kommen Sie vorbei am Surseer Umwelt- und Klimamorgen! Zahlreich
 e\nspannende Organisationen sind anwesend und zeigen\, welche\nMöglichkei
 ten uns eine nachhaltige Zukunft näherbringen.\n
DTSTART:20240914T063000Z
DTEND:20240914T100000Z
LOCATION:Martignyplatz\, 6210 Sursee
GEO:47.172544;8.106629
X-APPLE-STRUCTURED-LOCATION;VALUE=URI;X-ADDRESS=Martignyplatz\, 6210 Sursee
 ;X-APPLE-RADIUS=49;X-TITLE=:geo:47.172544,8.106629
END:VEVENT
END:VCALENDAR
